BEGIN:VCALENDAR
VERSION:2.0
PRODID:-//Amatorska Liga Siatkówki Volley Amigos 35 - ECPv6.14.2//NONSGML v1.0//EN
CALSCALE:GREGORIAN
METHOD:PUBLISH
X-WR-CALNAME:Amatorska Liga Siatkówki Volley Amigos 35
X-ORIGINAL-URL:https://volleyamigos35.pl
X-WR-CALDESC:Wydarzenia dla Amatorska Liga Siatkówki Volley Amigos 35
REFRESH-INTERVAL;VALUE=DURATION:PT1H
X-Robots-Tag:noindex
X-PUBLISHED-TTL:PT1H
BEGIN:VTIMEZONE
TZID:Europe/Warsaw
BEGIN:DAYLIGHT
TZOFFSETFROM:+0100
TZOFFSETTO:+0200
TZNAME:CEST
DTSTART:20260329T010000
END:DAYLIGHT
BEGIN:STANDARD
TZOFFSETFROM:+0200
TZOFFSETTO:+0100
TZNAME:CET
DTSTART:20261025T010000
END:STANDARD
END:VTIMEZONE
BEGIN:VEVENT
DTSTART;TZID=Europe/Warsaw:20260302T193000
DTEND;TZID=Europe/Warsaw:20260302T210000
DTSTAMP:20260418T043311
CREATED:20251011T111236Z
LAST-MODIFIED:20251011T111236Z
UID:938-1772479800-1772485200@volleyamigos35.pl
SUMMARY:4 FUN ZAWADA : BEZ ODBIORU RACIBÓRZ
DESCRIPTION:18 Kolejka Rozgrywek amatorskiej ligi siatkówki\, mecz 4 FUN ZAWADA : BEZ ODBIORU RACIBÓRZ
URL:https://volleyamigos35.pl/event/4-fun-zawada-bez-odbioru-raciborz/
LOCATION:Zespół Szkolno – Przedszkolny nr 1 Zawada\, Konwaliowa 4\, Wodzisław Śląski\, Śląskie\, 44-373\, Poland
END:VEVENT
BEGIN:VEVENT
DTSTART;TZID=Europe/Warsaw:20260304T203000
DTEND;TZID=Europe/Warsaw:20260304T220000
DTSTAMP:20260418T043311
CREATED:20251011T111347Z
LAST-MODIFIED:20260127T194345Z
UID:940-1772656200-1772661600@volleyamigos35.pl
SUMMARY:VOLLEY JASTRZĘBIE ZDRÓJ : ZJEDNOCZONE EMIRATY RYDUŁTOWSKIE
DESCRIPTION:18 Kolejka Rozgrywek amatorskiej ligi siatkówki\, mecz VOLLEY JASTRZĘBIE ZDRÓJ : ZJEDNOCZONE EMIRATY RYDUŁTOWSKIE
URL:https://volleyamigos35.pl/event/volley-jastrzebie-zdroj-zjednoczone-emiraty-rydultowskie/
LOCATION:Hala Omega w Jastrzębiu Zdroju\, ul. Harcerska 14b\, Jastrzębie-Zdrój\, 44-335
END:VEVENT
BEGIN:VEVENT
DTSTART;TZID=Europe/Warsaw:20260305T194500
DTEND;TZID=Europe/Warsaw:20260305T214500
DTSTAMP:20260418T043311
CREATED:20251011T111418Z
LAST-MODIFIED:20251011T111418Z
UID:941-1772739900-1772747100@volleyamigos35.pl
SUMMARY:BEER TEAM SILESIA MASTERS RYBNIK : VOLLEY PSZÓW
DESCRIPTION:18 Kolejka Rozgrywek amatorskiej ligi siatkówki\, mecz BEER TEAM SILESIA MASTERS RYBNIK : VOLLEY PSZÓW
URL:https://volleyamigos35.pl/event/beer-team-silesia-masters-rybnik-volley-pszow/
LOCATION:Zespół Szkolno-Przedszkolny nr 5 w Rybniku\, ul. Różańskiego 14A\, Rybnik\, 44-200
END:VEVENT
BEGIN:VEVENT
DTSTART;TZID=Europe/Warsaw:20260306T180000
DTEND;TZID=Europe/Warsaw:20260306T193000
DTSTAMP:20260418T043311
CREATED:20251011T111315Z
LAST-MODIFIED:20260107T225127Z
UID:939-1772820000-1772825400@volleyamigos35.pl
SUMMARY:VETERAN VOLLEY RYBNIK : STARA GWARDIA CZYŻOWICE
DESCRIPTION:18 Kolejka Rozgrywek amatorskiej ligi siatkówki\, mecz VETERAN VOLLEY RYBNIK : STARA GWARDIA CZYŻOWICE
URL:https://volleyamigos35.pl/event/veteran-volley-rybnik-stara-gwardia-czyzowice/
LOCATION:ZSP Nr. 3 w Rybniku\, ul. Bernarda Kuglera 8a\, Rybnik\, 44-207
END:VEVENT
BEGIN:VEVENT
DTSTART;TZID=Europe/Warsaw:20260306T203000
DTEND;TZID=Europe/Warsaw:20260306T220000
DTSTAMP:20260418T043311
CREATED:20251011T111456Z
LAST-MODIFIED:20251011T111518Z
UID:942-1772829000-1772834400@volleyamigos35.pl
SUMMARY:MIX TEAM PSZÓW : OMERTA NORTHERN RACIBÓRZ
DESCRIPTION:18 Kolejka Rozgrywek amatorskiej ligi siatkówki\, mecz MIX TEAM PSZÓW : OMERTA NORTHERN RACIBÓRZ
URL:https://volleyamigos35.pl/event/mix-team-pszow-omerta-northern-raciborz/
LOCATION:Szkoła podstawowa Nr.1 w Pszowie\, Romualda Traugutta 12\, Pszów\, Śląskie\, 44-370\, Poland
END:VEVENT
BEGIN:VEVENT
DTSTART;TZID=Europe/Warsaw:20260313T183000
DTEND;TZID=Europe/Warsaw:20260313T200000
DTSTAMP:20260418T043311
CREATED:20251011T102727Z
LAST-MODIFIED:20260207T115608Z
UID:886-1773426600-1773432000@volleyamigos35.pl
SUMMARY:STARA GWARDIA CZYŻOWICE : 4 FUN ZAWADA
DESCRIPTION:Zaległa 13 Kolejka Rozgrywek amatorskiej ligi siatkówki\, mecz STARA GWARDIA CZYŻOWICE : 4 FUN ZAWADA
URL:https://volleyamigos35.pl/event/stara-gwardia-czyzowice-4-fun-zawada/
LOCATION:Zespół Szkół Ogólnokształcących w Syryni\, ul. Powstańców Śląskich 26\, Syrynia\, 44-361
END:VEVENT
END:VCALENDAR