BEGIN:VCALENDAR
VERSION:2.0
PRODID:-//Amatorska Liga Siatkówki Volley Amigos 35 - ECPv6.14.2//NONSGML v1.0//EN
CALSCALE:GREGORIAN
METHOD:PUBLISH
X-WR-CALNAME:Amatorska Liga Siatkówki Volley Amigos 35
X-ORIGINAL-URL:https://volleyamigos35.pl
X-WR-CALDESC:Wydarzenia dla Amatorska Liga Siatkówki Volley Amigos 35
REFRESH-INTERVAL;VALUE=DURATION:PT1H
X-Robots-Tag:noindex
X-PUBLISHED-TTL:PT1H
BEGIN:VTIMEZONE
TZID:Europe/Warsaw
BEGIN:DAYLIGHT
TZOFFSETFROM:+0100
TZOFFSETTO:+0200
TZNAME:CEST
DTSTART:20260329T010000
END:DAYLIGHT
BEGIN:STANDARD
TZOFFSETFROM:+0200
TZOFFSETTO:+0100
TZNAME:CET
DTSTART:20261025T010000
END:STANDARD
END:VTIMEZONE
BEGIN:VEVENT
DTSTART;TZID=Europe/Warsaw:20260204T200000
DTEND;TZID=Europe/Warsaw:20260204T213000
DTSTAMP:20260418T043259
CREATED:20251011T110104Z
LAST-MODIFIED:20251011T110104Z
UID:919-1770235200-1770240600@volleyamigos35.pl
SUMMARY:OMERTA NORTHERN RACIBÓRZ : STARA GWARDIA CZYŻOWICE
DESCRIPTION:16 Kolejka Rozgrywek amatorskiej ligi siatkówki\, mecz OMERTA NORTHERN RACIBÓRZ : STARA GWARDIA CZYŻOWICE
URL:https://volleyamigos35.pl/event/omerta-northern-raciborz-stara-gwardia-czyzowice/
LOCATION:Powiatowe Centrum Sportu Racibórz\, ul. Klasztorna 9\, Racibórz\, 47-400
END:VEVENT
BEGIN:VEVENT
DTSTART;TZID=Europe/Warsaw:20260205T184000
DTEND;TZID=Europe/Warsaw:20260205T203000
DTSTAMP:20260418T043259
CREATED:20251011T110248Z
LAST-MODIFIED:20260202T174447Z
UID:920-1770316800-1770323400@volleyamigos35.pl
SUMMARY:4 FUN ZAWADA : ZJEDNOCZONE EMIRATY RYDUŁTOWSKIE
DESCRIPTION:16 Kolejka Rozgrywek amatorskiej ligi siatkówki\, mecz 4 FUN ZAWADA : ZJEDNOCZONE EMIRATY RYDUŁTOWSKIE
URL:https://volleyamigos35.pl/event/4-fun-zawada-zjednoczone-emiraty-rydultowskie/
LOCATION:SP nr 3 w Radlinie\, ul. Józefa Rymera 170\, Radlin\, 44-310
END:VEVENT
BEGIN:VEVENT
DTSTART;TZID=Europe/Warsaw:20260205T194500
DTEND;TZID=Europe/Warsaw:20260205T214500
DTSTAMP:20260418T043259
CREATED:20251011T110348Z
LAST-MODIFIED:20251011T110348Z
UID:922-1770320700-1770327900@volleyamigos35.pl
SUMMARY:BEER TEAM SILESIA MASTERS RYBNIK : VOLLEY JASTRZĘBIE ZDRÓJ
DESCRIPTION:16 Kolejka Rozgrywek amatorskiej ligi siatkówki\, mecz BEER TEAM SILESIA MASTERS RYBNIK : VOLLEY JASTRZĘBIE ZDRÓJ
URL:https://volleyamigos35.pl/event/beer-team-silesia-masters-rybnik-volley-jastrzebie-zdroj/
LOCATION:Zespół Szkolno-Przedszkolny nr 5 w Rybniku\, ul. Różańskiego 14A\, Rybnik\, 44-200
END:VEVENT
BEGIN:VEVENT
DTSTART;TZID=Europe/Warsaw:20260206T180000
DTEND;TZID=Europe/Warsaw:20260206T193000
DTSTAMP:20260418T043259
CREATED:20251011T110031Z
LAST-MODIFIED:20260107T225137Z
UID:918-1770400800-1770406200@volleyamigos35.pl
SUMMARY:VETERAN VOLLEY RYBNIK : BEZ ODBIORU RACIBÓRZ
DESCRIPTION:16 Kolejka Rozgrywek amatorskiej ligi siatkówki\, mecz VETERAN VOLLEY RYBNIK : BEZ ODBIORU RACIBÓRZ
URL:https://volleyamigos35.pl/event/veteran-volley-rybnik-bez-odbioru-raciborz/
LOCATION:ZSP Nr. 3 w Rybniku\, ul. Bernarda Kuglera 8a\, Rybnik\, 44-207
END:VEVENT
BEGIN:VEVENT
DTSTART;TZID=Europe/Warsaw:20260206T203000
DTEND;TZID=Europe/Warsaw:20260206T220000
DTSTAMP:20260418T043259
CREATED:20251011T110319Z
LAST-MODIFIED:20251011T110319Z
UID:921-1770409800-1770415200@volleyamigos35.pl
SUMMARY:MIX TEAM PSZÓW : VOLLEY PSZÓW
DESCRIPTION:16 Kolejka Rozgrywek amatorskiej ligi siatkówki\, mecz MIX TEAM PSZÓW : VOLLEY PSZÓW
URL:https://volleyamigos35.pl/event/mix-team-pszow-volley-pszow/
LOCATION:Szkoła podstawowa Nr.1 w Pszowie\, Romualda Traugutta 12\, Pszów\, Śląskie\, 44-370\, Poland
END:VEVENT
BEGIN:VEVENT
DTSTART;TZID=Europe/Warsaw:20260210T181500
DTEND;TZID=Europe/Warsaw:20260210T194500
DTSTAMP:20260418T043259
CREATED:20251011T110745Z
LAST-MODIFIED:20251011T110844Z
UID:932-1770747300-1770752700@volleyamigos35.pl
SUMMARY:BEZ ODBIORU RACIBÓRZ :  MIX TEAM PSZÓW
DESCRIPTION:17 Kolejka Rozgrywek amatorskiej ligi siatkówki\, mecz BEZ ODBIORU RACIBÓRZ : MIX TEAM PSZÓW 
URL:https://volleyamigos35.pl/event/bez-odbioru-raciborz-mix-team-pszow/
LOCATION:Centrum Kształcenia Zawodowego i Ustawicznego nr 2 „Mechanik” Racibórz\, ul. Zamkowa 1\, Racibórz\, Śląskie\, 47-400\, Poland
END:VEVENT
BEGIN:VEVENT
DTSTART;TZID=Europe/Warsaw:20260210T203000
DTEND;TZID=Europe/Warsaw:20260210T220000
DTSTAMP:20260418T043259
CREATED:20251011T110547Z
LAST-MODIFIED:20251011T110547Z
UID:928-1770755400-1770760800@volleyamigos35.pl
SUMMARY:VOLLEY PSZÓW : 4 FUN ZAWADA
DESCRIPTION:17 Kolejka Rozgrywek amatorskiej ligi siatkówki\, mecz VOLLEY PSZÓW : 4 FUN ZAWADA
URL:https://volleyamigos35.pl/event/volley-pszow-4-fun-zawada/
LOCATION:Szkoła podstawowa Nr.1 w Pszowie\, Romualda Traugutta 12\, Pszów\, Śląskie\, 44-370\, Poland
END:VEVENT
BEGIN:VEVENT
DTSTART;TZID=Europe/Warsaw:20260211T200000
DTEND;TZID=Europe/Warsaw:20260211T213000
DTSTAMP:20260418T043259
CREATED:20251011T110722Z
LAST-MODIFIED:20251011T110722Z
UID:931-1770840000-1770845400@volleyamigos35.pl
SUMMARY:OMERTA NORTHERN RACIBÓRZ : VETERAN VOLLEY RYBNIK
DESCRIPTION:17 Kolejka Rozgrywek amatorskiej ligi siatkówki\, mecz OMERTA NORTHERN RACIBÓRZ : VETERAN VOLLEY RYBNIK
URL:https://volleyamigos35.pl/event/omerta-northern-raciborz-veteran-volley-rybnik/
LOCATION:Powiatowe Centrum Sportu Racibórz\, ul. Klasztorna 9\, Racibórz\, 47-400
END:VEVENT
BEGIN:VEVENT
DTSTART;TZID=Europe/Warsaw:20260212T184000
DTEND;TZID=Europe/Warsaw:20260212T211000
DTSTAMP:20260418T043259
CREATED:20251011T110700Z
LAST-MODIFIED:20251122T082334Z
UID:930-1770921600-1770930600@volleyamigos35.pl
SUMMARY:ZJEDNOCZONE EMIRATY RYDUŁTOWSKIE :  BEER TEAM SILESIA MASTERS RYBNIK
DESCRIPTION:17 Kolejka Rozgrywek amatorskiej ligi siatkówki\, mecz ZJEDNOCZONE EMIRATY RYDUŁTOWSKIE : BEER TEAM SILESIA MASTERS RYBNIK
URL:https://volleyamigos35.pl/event/zjednoczone-emiraty-rydultowskie-beer-team-silesia-masters-rybnik/
LOCATION:SP nr 3 w Radlinie\, ul. Józefa Rymera 170\, Radlin\, 44-310
END:VEVENT
BEGIN:VEVENT
DTSTART;TZID=Europe/Warsaw:20260213T183000
DTEND;TZID=Europe/Warsaw:20260213T200000
DTSTAMP:20260418T043259
CREATED:20251011T110620Z
LAST-MODIFIED:20251016T175328Z
UID:929-1771007400-1771012800@volleyamigos35.pl
SUMMARY:STARA GWARDIA CZYŻOWICE : VOLLEY JASTRZĘBIE ZDRÓJ
DESCRIPTION:17 Kolejka Rozgrywek amatorskiej ligi siatkówki\, mecz STARA GWARDIA CZYŻOWICE : VOLLEY JASTRZĘBIE ZDRÓJ
URL:https://volleyamigos35.pl/event/stara-gwardia-czyzowice-volley-jastrzebie-zdroj/
LOCATION:Zespół Szkół Ogólnokształcących w Syryni\, ul. Powstańców Śląskich 26\, Syrynia\, 44-361
END:VEVENT
END:VCALENDAR