BEGIN:VCALENDAR
VERSION:2.0
PRODID:-//Amatorska Liga Siatkówki Volley Amigos 35 - ECPv6.14.2//NONSGML v1.0//EN
CALSCALE:GREGORIAN
METHOD:PUBLISH
X-WR-CALNAME:Amatorska Liga Siatkówki Volley Amigos 35
X-ORIGINAL-URL:https://volleyamigos35.pl
X-WR-CALDESC:Wydarzenia dla Amatorska Liga Siatkówki Volley Amigos 35
REFRESH-INTERVAL;VALUE=DURATION:PT1H
X-Robots-Tag:noindex
X-PUBLISHED-TTL:PT1H
BEGIN:VTIMEZONE
TZID:Europe/Warsaw
BEGIN:DAYLIGHT
TZOFFSETFROM:+0100
TZOFFSETTO:+0200
TZNAME:CEST
DTSTART:20250330T010000
END:DAYLIGHT
BEGIN:STANDARD
TZOFFSETFROM:+0200
TZOFFSETTO:+0100
TZNAME:CET
DTSTART:20251026T010000
END:STANDARD
END:VTIMEZONE
BEGIN:VEVENT
DTSTART;TZID=Europe/Warsaw:20251201T203000
DTEND;TZID=Europe/Warsaw:20251201T220000
DTSTAMP:20260418T043338
CREATED:20251011T100158Z
LAST-MODIFIED:20251201T185806Z
UID:847-1764621000-1764626400@volleyamigos35.pl
SUMMARY:VOLLEY PSZÓW : BEER TEAM SILESIA MASTERS RYBNIK
DESCRIPTION:9 Kolejka Rozgrywek amatorskiej ligi siatkówki\, mecz VOLLEY PSZÓW : BEER TEAM SILESIA MASTERS RYBNIK
URL:https://volleyamigos35.pl/event/volley-pszow-beer-team-silesia-masters-rybnik/
LOCATION:Szkoła podstawowa Nr.1 w Pszowie\, Romualda Traugutta 12\, Pszów\, Śląskie\, 44-370\, Poland
END:VEVENT
BEGIN:VEVENT
DTSTART;TZID=Europe/Warsaw:20251202T181500
DTEND;TZID=Europe/Warsaw:20251202T194500
DTSTAMP:20260418T043338
CREATED:20251011T095919Z
LAST-MODIFIED:20251011T095919Z
UID:844-1764699300-1764704700@volleyamigos35.pl
SUMMARY:BEZ ODBIORU RACIBÓRZ : 4 FUN ZAWADA
DESCRIPTION:9 Kolejka Rozgrywek amatorskiej ligi siatkówki\, mecz BEZ ODBIORU RACIBÓRZ : 4 FUN ZAWADA
URL:https://volleyamigos35.pl/event/bez-odbioru-raciborz-4-fun-zawada/
LOCATION:Centrum Kształcenia Zawodowego i Ustawicznego nr 2 „Mechanik” Racibórz\, ul. Zamkowa 1\, Racibórz\, Śląskie\, 47-400\, Poland
END:VEVENT
BEGIN:VEVENT
DTSTART;TZID=Europe/Warsaw:20251203T200000
DTEND;TZID=Europe/Warsaw:20251203T213000
DTSTAMP:20260418T043338
CREATED:20251011T100227Z
LAST-MODIFIED:20251011T100236Z
UID:848-1764792000-1764797400@volleyamigos35.pl
SUMMARY:OMERTA NORTHERN RACIBÓRZ : MIX TEAM PSZÓW
DESCRIPTION:9 Kolejka Rozgrywek amatorskiej ligi siatkówki\, mecz OMERTA NORTHERN RACIBÓRZ : MIX TEAM PSZÓW
URL:https://volleyamigos35.pl/event/omerta-northern-raciborz-mix-team-pszow/
LOCATION:Powiatowe Centrum Sportu Racibórz\, ul. Klasztorna 9\, Racibórz\, 47-400
END:VEVENT
BEGIN:VEVENT
DTSTART;TZID=Europe/Warsaw:20251204T184000
DTEND;TZID=Europe/Warsaw:20251204T211000
DTSTAMP:20260418T043338
CREATED:20251011T100052Z
LAST-MODIFIED:20251122T082233Z
UID:846-1764873600-1764882600@volleyamigos35.pl
SUMMARY:ZJEDNOCZONE EMIRATY RYDUŁTOWSKIE : VOLLEY JASTRZĘBIE ZDRÓJ
DESCRIPTION:9 Kolejka Rozgrywek amatorskiej ligi siatkówki\, mecz ZJEDNOCZONE EMIRATY RYDUŁTOWSKIE : VOLLEY JASTRZĘBIE ZDRÓJ
URL:https://volleyamigos35.pl/event/zjednoczone-emiraty-rydultowskie-volley-jastrzebie-zdroj/
LOCATION:SP nr 3 w Radlinie\, ul. Józefa Rymera 170\, Radlin\, 44-310
END:VEVENT
BEGIN:VEVENT
DTSTART;TZID=Europe/Warsaw:20251205T183000
DTEND;TZID=Europe/Warsaw:20251205T200000
DTSTAMP:20260418T043338
CREATED:20251011T095958Z
LAST-MODIFIED:20251016T175517Z
UID:845-1764959400-1764964800@volleyamigos35.pl
SUMMARY:STARA GWARDIA CZYŻOWICE : VETERAN VOLLEY RYBNIK
DESCRIPTION:9 Kolejka Rozgrywek amatorskiej ligi siatkówki\, mecz STARA GWARDIA CZYŻOWICE : VETERAN VOLLEY RYBNIK
URL:https://volleyamigos35.pl/event/stara-gwardia-czyzowice-veteran-volley-rybnik/
LOCATION:Zespół Szkół Ogólnokształcących w Syryni\, ul. Powstańców Śląskich 26\, Syrynia\, 44-361
END:VEVENT
BEGIN:VEVENT
DTSTART;TZID=Europe/Warsaw:20251209T181500
DTEND;TZID=Europe/Warsaw:20251209T194500
DTSTAMP:20260418T043338
CREATED:20251011T100641Z
LAST-MODIFIED:20251011T100641Z
UID:857-1765304100-1765309500@volleyamigos35.pl
SUMMARY:BEZ ODBIORU RACIBÓRZ : BEER TEAM SILESIA MASTERS RYBNIK
DESCRIPTION:10 Kolejka Rozgrywek amatorskiej ligi siatkówki\, mecz BEZ ODBIORU RACIBÓRZ : BEER TEAM SILESIA MASTERS RYBNIK
URL:https://volleyamigos35.pl/event/bez-odbioru-raciborz-beer-team-silesia-masters-rybnik/
LOCATION:Centrum Kształcenia Zawodowego i Ustawicznego nr 2 „Mechanik” Racibórz\, ul. Zamkowa 1\, Racibórz\, Śląskie\, 47-400\, Poland
END:VEVENT
BEGIN:VEVENT
DTSTART;TZID=Europe/Warsaw:20251209T203000
DTEND;TZID=Europe/Warsaw:20251209T220000
DTSTAMP:20260418T043338
CREATED:20251011T100554Z
LAST-MODIFIED:20251011T100604Z
UID:856-1765312200-1765317600@volleyamigos35.pl
SUMMARY:VOLLEY PSZÓW : VOLLEY JASTRZĘBIE ZDRÓJ
DESCRIPTION:10 Kolejka Rozgrywek amatorskiej ligi siatkówki\, mecz VOLLEY PSZÓW : VOLLEY JASTRZĘBIE ZDRÓJ
URL:https://volleyamigos35.pl/event/volley-pszow-volley-jastrzebie-zdroj/
LOCATION:Szkoła podstawowa Nr.1 w Pszowie\, Romualda Traugutta 12\, Pszów\, Śląskie\, 44-370\, Poland
END:VEVENT
BEGIN:VEVENT
DTSTART;TZID=Europe/Warsaw:20251210T200000
DTEND;TZID=Europe/Warsaw:20251210T213000
DTSTAMP:20260418T043338
CREATED:20251011T100820Z
LAST-MODIFIED:20251011T100820Z
UID:859-1765396800-1765402200@volleyamigos35.pl
SUMMARY:OMERTA NORTHERN RACIBÓRZ : 4 FUN ZAWADA
DESCRIPTION:10 Kolejka Rozgrywek amatorskiej ligi siatkówki\, mecz OMERTA NORTHERN RACIBÓRZ : 4 FUN ZAWADA
URL:https://volleyamigos35.pl/event/omerta-northern-raciborz-4-fun-zawada/
LOCATION:Powiatowe Centrum Sportu Racibórz\, ul. Klasztorna 9\, Racibórz\, 47-400
END:VEVENT
BEGIN:VEVENT
DTSTART;TZID=Europe/Warsaw:20251211T184000
DTEND;TZID=Europe/Warsaw:20251211T211000
DTSTAMP:20260418T043338
CREATED:20251011T100504Z
LAST-MODIFIED:20251122T082251Z
UID:855-1765478400-1765487400@volleyamigos35.pl
SUMMARY:ZJEDNOCZONE EMIRATY RYDUŁTOWSKIE : STARA GWARDIA CZYŻOWICE
DESCRIPTION:10 Kolejka Rozgrywek amatorskiej ligi siatkówki\, mecz ZJEDNOCZONE EMIRATY RYDUŁTOWSKIE : STARA GWARDIA CZYŻOWICE
URL:https://volleyamigos35.pl/event/zjednoczone-emiraty-rydultowskie-stara-gwardia-czyzowice/
LOCATION:SP nr 3 w Radlinie\, ul. Józefa Rymera 170\, Radlin\, 44-310
END:VEVENT
BEGIN:VEVENT
DTSTART;TZID=Europe/Warsaw:20251212T203000
DTEND;TZID=Europe/Warsaw:20251212T220000
DTSTAMP:20260418T043338
CREATED:20251011T100719Z
LAST-MODIFIED:20251011T100719Z
UID:858-1765571400-1765576800@volleyamigos35.pl
SUMMARY:VETERAN VOLLEY RYBNIK : MIX TEAM PSZÓW
DESCRIPTION:10 Kolejka Rozgrywek amatorskiej ligi siatkówki\, mecz VETERAN VOLLEY RYBNIK : MIX TEAM PSZÓW
URL:https://volleyamigos35.pl/event/veteran-volley-rybnik-mix-team-pszow-2/
LOCATION:ZSP Nr. 3 w Rybniku\, ul. Bernarda Kuglera 8a\, Rybnik\, 44-207
END:VEVENT
BEGIN:VEVENT
DTSTART;TZID=Europe/Warsaw:20251216T203000
DTEND;TZID=Europe/Warsaw:20251216T220000
DTSTAMP:20260418T043338
CREATED:20251011T101755Z
LAST-MODIFIED:20251011T101816Z
UID:869-1765917000-1765922400@volleyamigos35.pl
SUMMARY:VOLLEY PSZÓW : ZJEDNOCZONE EMIRATY RYDUŁTOWSKIE
DESCRIPTION:11 Kolejka Rozgrywek amatorskiej ligi siatkówki\, mecz VOLLEY PSZÓW : ZJEDNOCZONE EMIRATY RYDUŁTOWSKIE
URL:https://volleyamigos35.pl/event/volley-pszow-zjednoczone-emiraty-rydultowskie/
LOCATION:Szkoła podstawowa Nr.1 w Pszowie\, Romualda Traugutta 12\, Pszów\, Śląskie\, 44-370\, Poland
END:VEVENT
BEGIN:VEVENT
DTSTART;TZID=Europe/Warsaw:20251217T193000
DTEND;TZID=Europe/Warsaw:20251217T213000
DTSTAMP:20260418T043338
CREATED:20251011T101445Z
LAST-MODIFIED:20251011T101513Z
UID:866-1765999800-1766007000@volleyamigos35.pl
SUMMARY:VOLLEY JASTRZĘBIE ZDRÓJ : BEZ ODBIORU RACIBÓRZ
DESCRIPTION:11 Kolejka Rozgrywek amatorskiej ligi siatkówki\, mecz VOLLEY JASTRZĘBIE ZDRÓJ : BEZ ODBIORU RACIBÓRZ
URL:https://volleyamigos35.pl/event/volley-jastrzebie-zdroj-bez-odbioru-raciborz/
LOCATION:Hala Omega w Jastrzębiu Zdroju\, ul. Harcerska 14b\, Jastrzębie-Zdrój\, 44-335
END:VEVENT
BEGIN:VEVENT
DTSTART;TZID=Europe/Warsaw:20251218T194500
DTEND;TZID=Europe/Warsaw:20251218T214500
DTSTAMP:20260418T043338
CREATED:20251011T101637Z
LAST-MODIFIED:20251011T101637Z
UID:867-1766087100-1766094300@volleyamigos35.pl
SUMMARY:BEER TEAM SILESIA MASTERS RYBNIK : OMERTA NORTHERN RACIBÓRZ
DESCRIPTION:11 Kolejka Rozgrywek amatorskiej ligi siatkówki\, mecz BEER TEAM SILESIA MASTERS RYBNIK : OMERTA NORTHERN RACIBÓRZ
URL:https://volleyamigos35.pl/event/beer-team-silesia-masters-rybnik-omerta-northern-raciborz/
LOCATION:Zespół Szkolno-Przedszkolny nr 5 w Rybniku\, ul. Różańskiego 14A\, Rybnik\, 44-200
END:VEVENT
BEGIN:VEVENT
DTSTART;TZID=Europe/Warsaw:20251219T183000
DTEND;TZID=Europe/Warsaw:20251219T200000
DTSTAMP:20260418T043338
CREATED:20251011T101706Z
LAST-MODIFIED:20251016T175459Z
UID:868-1766169000-1766174400@volleyamigos35.pl
SUMMARY:STARA GWARDIA CZYŻOWICE : MIX TEAM PSZÓW
DESCRIPTION:11 Kolejka Rozgrywek amatorskiej ligi siatkówki\, mecz STARA GWARDIA CZYŻOWICE : MIX TEAM PSZÓW
URL:https://volleyamigos35.pl/event/stara-gwardia-czyzowice-mix-team-pszow/
LOCATION:Zespół Szkół Ogólnokształcących w Syryni\, ul. Powstańców Śląskich 26\, Syrynia\, 44-361
END:VEVENT
BEGIN:VEVENT
DTSTART;TZID=Europe/Warsaw:20251219T203000
DTEND;TZID=Europe/Warsaw:20251219T220000
DTSTAMP:20260418T043338
CREATED:20251011T101413Z
LAST-MODIFIED:20251011T101413Z
UID:865-1766176200-1766181600@volleyamigos35.pl
SUMMARY:VETERAN VOLLEY RYBNIK : 4 FUN ZAWADA
DESCRIPTION:11 Kolejka Rozgrywek amatorskiej ligi siatkówki\, mecz VETERAN VOLLEY RYBNIK : 4 FUN ZAWADA
URL:https://volleyamigos35.pl/event/veteran-volley-rybnik-4-fun-zawada/
LOCATION:ZSP Nr. 3 w Rybniku\, ul. Bernarda Kuglera 8a\, Rybnik\, 44-207
END:VEVENT
END:VCALENDAR