BEGIN:VCALENDAR
VERSION:2.0
PRODID:-//Amatorska Liga Siatkówki Volley Amigos 35 - ECPv6.14.2//NONSGML v1.0//EN
CALSCALE:GREGORIAN
METHOD:PUBLISH
X-WR-CALNAME:Amatorska Liga Siatkówki Volley Amigos 35
X-ORIGINAL-URL:https://volleyamigos35.pl
X-WR-CALDESC:Wydarzenia dla Amatorska Liga Siatkówki Volley Amigos 35
REFRESH-INTERVAL;VALUE=DURATION:PT1H
X-Robots-Tag:noindex
X-PUBLISHED-TTL:PT1H
BEGIN:VTIMEZONE
TZID:Europe/Warsaw
BEGIN:DAYLIGHT
TZOFFSETFROM:+0100
TZOFFSETTO:+0200
TZNAME:CEST
DTSTART:20250330T010000
END:DAYLIGHT
BEGIN:STANDARD
TZOFFSETFROM:+0200
TZOFFSETTO:+0100
TZNAME:CET
DTSTART:20251026T010000
END:STANDARD
END:VTIMEZONE
BEGIN:VEVENT
DTSTART;TZID=Europe/Warsaw:20251117T193000
DTEND;TZID=Europe/Warsaw:20251117T210000
DTSTAMP:20260418T043852
CREATED:20251008T194853Z
LAST-MODIFIED:20251116T210237Z
UID:805-1763407800-1763413200@volleyamigos35.pl
SUMMARY:4 FUN ZAWADA : ZJEDNOCZONE EMIRATY RYDUŁTOWSKIE
DESCRIPTION:7 Kolejka Rozgrywek amatorskiej ligi siatkówki\, mecz 4 FUN ZAWADA : ZJEDNOCZONE EMIRATY RYDUŁTOWSKIE
URL:https://volleyamigos35.pl/event/zjednoczone-emiraty-rydultowskie-4-fun-zawada/
LOCATION:Zespół Szkolno – Przedszkolny nr 1 Zawada\, Konwaliowa 4\, Wodzisław Śląski\, Śląskie\, 44-373\, Poland
END:VEVENT
BEGIN:VEVENT
DTSTART;TZID=Europe/Warsaw:20251114T203000
DTEND;TZID=Europe/Warsaw:20251114T220000
DTSTAMP:20260418T043852
CREATED:20251008T194033Z
LAST-MODIFIED:20251008T194203Z
UID:797-1763152200-1763157600@volleyamigos35.pl
SUMMARY:MIX TEAM PSZÓW : ZJEDNOCZONE EMIRATY RYDUŁTOWSKIE
DESCRIPTION:6 Kolejka Rozgrywek amatorskiej ligi siatkówki\, mecz MIX TEAM PSZÓW : ZJEDNOCZONE EMIRATY RYDUŁTOWSKIE
URL:https://volleyamigos35.pl/event/mix-team-pszow-zjednoczone-emiraty-rydultowskie/
LOCATION:Szkoła podstawowa Nr.1 w Pszowie\, Romualda Traugutta 12\, Pszów\, Śląskie\, 44-370\, Poland
END:VEVENT
BEGIN:VEVENT
DTSTART;TZID=Europe/Warsaw:20251114T203000
DTEND;TZID=Europe/Warsaw:20251114T220000
DTSTAMP:20260418T043852
CREATED:20251008T193956Z
LAST-MODIFIED:20251008T194347Z
UID:796-1763152200-1763157600@volleyamigos35.pl
SUMMARY:VETERAN VOLLEY RYBNIK : VOLLEY PSZÓW
DESCRIPTION:6 Kolejka Rozgrywek amatorskiej ligi siatkówki\, mecz VETERAN VOLLEY RYBNIK : VOLLEY PSZÓW
URL:https://volleyamigos35.pl/event/veteran-volley-rybnik-volley-pszow/
LOCATION:ZSP Nr. 3 w Rybniku\, ul. Bernarda Kuglera 8a\, Rybnik\, 44-207
END:VEVENT
BEGIN:VEVENT
DTSTART;TZID=Europe/Warsaw:20251113T194500
DTEND;TZID=Europe/Warsaw:20251113T214500
DTSTAMP:20260418T043852
CREATED:20251008T193924Z
LAST-MODIFIED:20251008T194248Z
UID:794-1763063100-1763070300@volleyamigos35.pl
SUMMARY:BEER TEAM SILESIA MASTERS RYBNIK : STARA GWARDIA CZYŻOWICE
DESCRIPTION:6 Kolejka Rozgrywek amatorskiej ligi siatkówki\, mecz BEER TEAM SILESIA MASTERS RYBNIK : STARA GWARDIA CZYŻOWICE
URL:https://volleyamigos35.pl/event/beer-team-silesia-masters-rybnik-stara-gwardia-czyzowice/
LOCATION:Zespół Szkolno-Przedszkolny nr 5 w Rybniku\, ul. Różańskiego 14A\, Rybnik\, 44-200
END:VEVENT
BEGIN:VEVENT
DTSTART;TZID=Europe/Warsaw:20251112T200000
DTEND;TZID=Europe/Warsaw:20251112T213000
DTSTAMP:20260418T043852
CREATED:20251008T193821Z
LAST-MODIFIED:20251008T194450Z
UID:795-1762977600-1762983000@volleyamigos35.pl
SUMMARY:OMERTA NORTHERN RACIBÓRZ : BEZ ODBIORU RACIBÓRZ
DESCRIPTION:6 Kolejka Rozgrywek amatorskiej ligi siatkówki\, mecz OMERTA NORTHERN RACIBÓRZ : BEZ ODBIORU RACIBÓRZ
URL:https://volleyamigos35.pl/event/omerta-northern-raciborz-bez-odbioru-raciborz/
LOCATION:Powiatowe Centrum Sportu Racibórz\, ul. Klasztorna 9\, Racibórz\, 47-400
END:VEVENT
BEGIN:VEVENT
DTSTART;TZID=Europe/Warsaw:20251110T193000
DTEND;TZID=Europe/Warsaw:20251110T210000
DTSTAMP:20260418T043852
CREATED:20251008T193730Z
LAST-MODIFIED:20251008T194142Z
UID:793-1762803000-1762808400@volleyamigos35.pl
SUMMARY:4 FUN ZAWADA : VOLLEY JASTRZĘBIE
DESCRIPTION:6 Kolejka Rozgrywek amatorskiej ligi siatkówki\, mecz 4 FUN ZAWADA : VOLLEY JASTRZĘBIE
URL:https://volleyamigos35.pl/event/4-fun-zawada-volley-jastrzebie/
LOCATION:Zespół Szkolno – Przedszkolny nr 1 Zawada\, Konwaliowa 4\, Wodzisław Śląski\, Śląskie\, 44-373\, Poland
END:VEVENT
BEGIN:VEVENT
DTSTART;TZID=Europe/Warsaw:20251107T183000
DTEND;TZID=Europe/Warsaw:20251107T200000
DTSTAMP:20260418T043852
CREATED:20251004T115346Z
LAST-MODIFIED:20251016T175553Z
UID:664-1762540200-1762545600@volleyamigos35.pl
SUMMARY:STARA GWARDIA CZYŻOWICE : BEZ ODBIORU RACIBÓRZ
DESCRIPTION:5 Kolejka Rozgrywek amatorskiej ligi siatkówki\, mecz STARA GWARDIA CZYŻOWICE : BEZ ODBIORU RACIBÓRZ
URL:https://volleyamigos35.pl/event/stara-gwardia-czyzowice-bez-odbioru-raciborz/
LOCATION:Zespół Szkół Ogólnokształcących w Syryni\, ul. Powstańców Śląskich 26\, Syrynia\, 44-361
END:VEVENT
BEGIN:VEVENT
DTSTART;TZID=Europe/Warsaw:20251107T173000
DTEND;TZID=Europe/Warsaw:20251107T190000
DTSTAMP:20260418T043852
CREATED:20251004T115719Z
LAST-MODIFIED:20251004T121203Z
UID:670-1762536600-1762542000@volleyamigos35.pl
SUMMARY:ZJEDNOCZONE EMIRATY RYDUŁTOWSKIE : VETERAN VOLLEY RYBNIK
DESCRIPTION:5 Kolejka Rozgrywek amatorskiej ligi siatkówki\, mecz ZJEDNOCZONE EMIRATY RYDUŁTOWSKIE : VETERAN VOLLEY RYBNIK
URL:https://volleyamigos35.pl/event/zjednoczone-emiraty-rydultowskie-veteran-volley-rybnik/
LOCATION:SP nr 3 w Radlinie\, ul. Józefa Rymera 170\, Radlin\, 44-310
END:VEVENT
BEGIN:VEVENT
DTSTART;TZID=Europe/Warsaw:20251106T194500
DTEND;TZID=Europe/Warsaw:20251106T214500
DTSTAMP:20260418T043852
CREATED:20251004T115610Z
LAST-MODIFIED:20251004T122815Z
UID:668-1762458300-1762465500@volleyamigos35.pl
SUMMARY:BEER TEAM SILESIA MASTERS RYBNIK : 4 FUN ZAWADA
DESCRIPTION:5 Kolejka Rozgrywek amatorskiej ligi siatkówki\, mecz BEER TEAM SILESIA MASTERS RYBNIK : 4 FUN ZAWADA
URL:https://volleyamigos35.pl/event/beer-team-silesia-masters-rybnik-4-fun-zawada/
LOCATION:Zespół Szkolno-Przedszkolny nr 5 w Rybniku\, ul. Różańskiego 14A\, Rybnik\, 44-200
END:VEVENT
BEGIN:VEVENT
DTSTART;TZID=Europe/Warsaw:20251105T193000
DTEND;TZID=Europe/Warsaw:20251105T213000
DTSTAMP:20260418T043852
CREATED:20251004T115500Z
LAST-MODIFIED:20251004T122834Z
UID:666-1762371000-1762378200@volleyamigos35.pl
SUMMARY:VOLLEY JASTRZĘBIE ZDRÓJ : MIX TEAM PSZÓW
DESCRIPTION:5 Kolejka Rozgrywek amatorskiej ligi siatkówki\, mecz VOLLEY JASTRZĘBIE ZDRÓJ : MIX TEAM PSZÓW
URL:https://volleyamigos35.pl/event/volley-jastrzebie-zdroj-mix-team-pszow/
LOCATION:Hala Omega w Jastrzębiu Zdroju\, ul. Harcerska 14b\, Jastrzębie-Zdrój\, 44-335
END:VEVENT
BEGIN:VEVENT
DTSTART;TZID=Europe/Warsaw:20251104T203000
DTEND;TZID=Europe/Warsaw:20251104T220000
DTSTAMP:20260418T043852
CREATED:20251004T115244Z
LAST-MODIFIED:20251004T123029Z
UID:662-1762288200-1762293600@volleyamigos35.pl
SUMMARY:VOLLEY PSZÓW : OMERTA NORTHERN RACIBÓRZ
DESCRIPTION:5 Kolejka Rozgrywek amatorskiej ligi siatkówki\, mecz VOLLEY PSZÓW : OMERTA NORTHERN RACIBÓRZ
URL:https://volleyamigos35.pl/event/volley-pszow-omerta-northern-raciborz/
LOCATION:Szkoła podstawowa Nr.1 w Pszowie\, Romualda Traugutta 12\, Pszów\, Śląskie\, 44-370\, Poland
END:VEVENT
BEGIN:VEVENT
DTSTART;TZID=Europe/Warsaw:20251031T203000
DTEND;TZID=Europe/Warsaw:20251031T220000
DTSTAMP:20260418T043852
CREATED:20251004T114826Z
LAST-MODIFIED:20251004T122538Z
UID:658-1761942600-1761948000@volleyamigos35.pl
SUMMARY:MIX TEAM PSZÓW : BEER TEAM SILESIA MASTERS RYBNIK
DESCRIPTION:4 Kolejka Rozgrywek amatorskiej ligi siatkówki\, mecz MIX TEAM PSZÓW : BEER TEAM SILESIA MASTERS RYBNIK
URL:https://volleyamigos35.pl/event/mix-team-pszow-beer-team-silesia-masters-rybnik/
LOCATION:Szkoła podstawowa Nr.1 w Pszowie\, Romualda Traugutta 12\, Pszów\, Śląskie\, 44-370\, Poland
END:VEVENT
BEGIN:VEVENT
DTSTART;TZID=Europe/Warsaw:20251029T200000
DTEND;TZID=Europe/Warsaw:20251029T213000
DTSTAMP:20260418T043852
CREATED:20251004T114545Z
LAST-MODIFIED:20251004T122606Z
UID:656-1761768000-1761773400@volleyamigos35.pl
SUMMARY:OMERTA NORTHERN RACIBÓRZ : ZJEDNOCZONE EMIRATY RYDUŁTOWSKIE
DESCRIPTION:4 Kolejka Rozgrywek amatorskiej ligi siatkówki\, mecz OMERTA NORTHERN RACIBÓRZ : ZJEDNOCZONE EMIRATY RYDUŁTOWSKIE
URL:https://volleyamigos35.pl/event/omerta-northern-raciborz-zjednoczone-emiraty-rydultowskie/
LOCATION:Powiatowe Centrum Sportu Racibórz\, ul. Klasztorna 9\, Racibórz\, 47-400
END:VEVENT
BEGIN:VEVENT
DTSTART;TZID=Europe/Warsaw:20251029T193000
DTEND;TZID=Europe/Warsaw:20251029T210000
DTSTAMP:20260418T043852
CREATED:20251004T115012Z
LAST-MODIFIED:20251019T175039Z
UID:660-1761766200-1761771600@volleyamigos35.pl
SUMMARY:VOLLEY JASTRZĘBIE ZDRÓJ : VETERAN VOLLEY RYBNIK
DESCRIPTION:4 Kolejka Rozgrywek amatorskiej ligi siatkówki\, mecz VOLLEY JASTRZĘBIE ZDRÓJ : VETERAN VOLLEY RYBNIK
URL:https://volleyamigos35.pl/event/veteran-volley-rybnik-volley-jastrzebie-zdroj/
LOCATION:Hala Omega w Jastrzębiu Zdroju\, ul. Harcerska 14b\, Jastrzębie-Zdrój\, 44-335
END:VEVENT
BEGIN:VEVENT
DTSTART;TZID=Europe/Warsaw:20251028T181500
DTEND;TZID=Europe/Warsaw:20251028T194500
DTSTAMP:20260418T043852
CREATED:20251004T114218Z
LAST-MODIFIED:20251004T122718Z
UID:653-1761675300-1761680700@volleyamigos35.pl
SUMMARY:BEZ ODBIORU RACIBÓRZ : VOLLEY PSZÓW
DESCRIPTION:4 Kolejka Rozgrywek amatorskiej ligi siatkówki\, mecz BEZ ODBIORU RACIBÓRZ : VOLLEY PSZÓW
URL:https://volleyamigos35.pl/event/bez-odbioru-raciborz-volley-pszow/
LOCATION:Centrum Kształcenia Zawodowego i Ustawicznego nr 2 „Mechanik” Racibórz\, ul. Zamkowa 1\, Racibórz\, Śląskie\, 47-400\, Poland
END:VEVENT
BEGIN:VEVENT
DTSTART;TZID=Europe/Warsaw:20251027T193000
DTEND;TZID=Europe/Warsaw:20251027T210000
DTSTAMP:20260418T043852
CREATED:20251004T114126Z
LAST-MODIFIED:20251004T122356Z
UID:651-1761593400-1761598800@volleyamigos35.pl
SUMMARY:4 FUN ZAWADA : STARA GWARDIA CZYŻOWICE
DESCRIPTION:4 Kolejka Rozgrywek amatorskiej ligi siatkówki\, mecz 4 FUN ZAWADA : STARA GWARDIA CZYŻOWICE
URL:https://volleyamigos35.pl/event/4-fun-zawada-stara-gwardia-czyzowice/
LOCATION:Zespół Szkolno – Przedszkolny nr 1 Zawada\, Konwaliowa 4\, Wodzisław Śląski\, Śląskie\, 44-373\, Poland
END:VEVENT
BEGIN:VEVENT
DTSTART;TZID=Europe/Warsaw:20251024T203000
DTEND;TZID=Europe/Warsaw:20251024T220000
DTSTAMP:20260418T043852
CREATED:20251004T112921Z
LAST-MODIFIED:20251004T122207Z
UID:640-1761337800-1761343200@volleyamigos35.pl
SUMMARY:MIX TEAM PSZÓW : 4 FUN ZAWADA
DESCRIPTION:3 Kolejka Rozgrywek amatorskiej ligi siatkówki\, mecz MIX TEAM PSZÓW : 4 FUN ZAWADA
URL:https://volleyamigos35.pl/event/mix-team-pszow-4-fun-zawada/
LOCATION:Szkoła podstawowa Nr.1 w Pszowie\, Romualda Traugutta 12\, Pszów\, Śląskie\, 44-370\, Poland
END:VEVENT
BEGIN:VEVENT
DTSTART;TZID=Europe/Warsaw:20251024T173000
DTEND;TZID=Europe/Warsaw:20251024T190000
DTSTAMP:20260418T043852
CREATED:20251004T113911Z
LAST-MODIFIED:20251004T122112Z
UID:647-1761327000-1761332400@volleyamigos35.pl
SUMMARY:ZJEDNOCZONE EMIRATY RYDUŁTOWSKIE : BEZ ODBIORU RACIBÓRZ
DESCRIPTION:3 Kolejka Rozgrywek amatorskiej ligi siatkówki\, mecz ZJEDNOCZONE EMIRATY RYDUŁTOWSKIE : BEZ ODBIORU RACIBÓRZ
URL:https://volleyamigos35.pl/event/zjednoczone-emiraty-rydultowskie-bez-odbioru-raciborz/
LOCATION:SP nr 3 w Radlinie\, ul. Józefa Rymera 170\, Radlin\, 44-310
END:VEVENT
BEGIN:VEVENT
DTSTART;TZID=Europe/Warsaw:20251022T193000
DTEND;TZID=Europe/Warsaw:20251022T213000
DTSTAMP:20260418T043852
CREATED:20251004T114017Z
LAST-MODIFIED:20251004T122044Z
UID:649-1761161400-1761168600@volleyamigos35.pl
SUMMARY:VOLLEY JASTRZĘBIE ZDRÓJ : OMERTA NORTHERN RACIBÓRZ
DESCRIPTION:3 Kolejka Rozgrywek amatorskiej ligi siatkówki\, mecz VOLLEY JASTRZĘBIE ZDRÓJ : OMERTA NORTHERN RACIBÓRZ
URL:https://volleyamigos35.pl/event/volley-jastrzebie-zdroj-omerta-northern-raciborz/
LOCATION:Hala Omega w Jastrzębiu Zdroju\, ul. Harcerska 14b\, Jastrzębie-Zdrój\, 44-335
END:VEVENT
BEGIN:VEVENT
DTSTART;TZID=Europe/Warsaw:20251021T203000
DTEND;TZID=Europe/Warsaw:20251021T220000
DTSTAMP:20260418T043852
CREATED:20251004T113009Z
LAST-MODIFIED:20251004T122146Z
UID:642-1761078600-1761084000@volleyamigos35.pl
SUMMARY:VOLLEY PSZÓW : STARA GWARDIA CZYŻOWICE
DESCRIPTION:3 Kolejka Rozgrywek amatorskiej ligi siatkówki\, mecz VOLLEY PSZÓW : STARA GWARDIA CZYŻOWICE
URL:https://volleyamigos35.pl/event/volley-pszow-stara-gwardia-czyzowice/
LOCATION:Szkoła podstawowa Nr.1 w Pszowie\, Romualda Traugutta 12\, Pszów\, Śląskie\, 44-370\, Poland
END:VEVENT
BEGIN:VEVENT
DTSTART;TZID=Europe/Warsaw:20251017T203000
DTEND;TZID=Europe/Warsaw:20251017T220000
DTSTAMP:20260418T043852
CREATED:20251004T112204Z
LAST-MODIFIED:20251004T121904Z
UID:632-1760733000-1760738400@volleyamigos35.pl
SUMMARY:MIX TEAM PSZÓW : STARA GWARDIA CZYŻOWICE
DESCRIPTION:2 Kolejka Rozgrywek amatorskiej ligi siatkówki\, mecz MIX TEAM PSZÓW : STARA GWARDIA CZYŻOWICE
URL:https://volleyamigos35.pl/event/mix-team-pszow-stara-gwardia-czyzowice/
LOCATION:Szkoła podstawowa Nr.1 w Pszowie\, Romualda Traugutta 12\, Pszów\, Śląskie\, 44-370\, Poland
END:VEVENT
BEGIN:VEVENT
DTSTART;TZID=Europe/Warsaw:20251017T173000
DTEND;TZID=Europe/Warsaw:20251017T190000
DTSTAMP:20260418T043852
CREATED:20251004T112652Z
LAST-MODIFIED:20251004T121924Z
UID:638-1760722200-1760727600@volleyamigos35.pl
SUMMARY:ZJEDNOCZONE EMIRATY RYDUŁTOWSKIE : VOLLEY PSZÓW
DESCRIPTION:2 Kolejka Rozgrywek amatorskiej ligi siatkówki\, mecz ZJEDNOCZONE EMIRATY RYDUŁTOWSKIE : VOLLEY PSZÓW
URL:https://volleyamigos35.pl/event/zjednoczone-emiraty-rydultowskie-volley-pszow/
LOCATION:SP nr 3 w Radlinie\, ul. Józefa Rymera 170\, Radlin\, 44-310
END:VEVENT
BEGIN:VEVENT
DTSTART;TZID=Europe/Warsaw:20251015T200000
DTEND;TZID=Europe/Warsaw:20251015T213000
DTSTAMP:20260418T043852
CREATED:20251004T112037Z
LAST-MODIFIED:20251004T121847Z
UID:630-1760558400-1760563800@volleyamigos35.pl
SUMMARY:OMERTA NORTHERN RACIBÓRZ : BEER TEAM SILESIA MASTERS RYBNIK
DESCRIPTION:2 Kolejka Rozgrywek amatorskiej ligi siatkówki\, mecz OMERTA NORTHERN RACIBÓRZ : BEER TEAM SILESIA MASTERS RYBNIK
URL:https://volleyamigos35.pl/event/omerta-northern-raciborz-beer-team-masters-rybnik/
LOCATION:Powiatowe Centrum Sportu Racibórz\, ul. Klasztorna 9\, Racibórz\, 47-400
END:VEVENT
BEGIN:VEVENT
DTSTART;TZID=Europe/Warsaw:20251014T181500
DTEND;TZID=Europe/Warsaw:20251014T194500
DTSTAMP:20260418T043852
CREATED:20251004T111206Z
LAST-MODIFIED:20251004T121827Z
UID:628-1760465700-1760471100@volleyamigos35.pl
SUMMARY:BEZ ODBIORU RACIBÓRZ : VOLLEY JASTRZĘBIE ZDRÓJ
DESCRIPTION:2 Kolejka Rozgrywek amatorskiej ligi siatkówki\, mecz BEZ ODBIORU RACIBÓRZ : VOLLEY JASTRZĘBIE ZDRÓJ
URL:https://volleyamigos35.pl/event/bez-odbioru-raciborz-volley-jastrzebie-zdroj/
LOCATION:Centrum Kształcenia Zawodowego i Ustawicznego nr 2 „Mechanik” Racibórz\, ul. Zamkowa 1\, Racibórz\, Śląskie\, 47-400\, Poland
END:VEVENT
BEGIN:VEVENT
DTSTART;TZID=Europe/Warsaw:20251013T193000
DTEND;TZID=Europe/Warsaw:20251013T210000
DTSTAMP:20260418T043852
CREATED:20251004T105118Z
LAST-MODIFIED:20251004T121806Z
UID:626-1760383800-1760389200@volleyamigos35.pl
SUMMARY:4 FUN ZAWADA : VETERAN VOLLEY RYBNIK
DESCRIPTION:2 Kolejka Rozgrywek amatorskiej ligi siatkówki\, mecz 4 FUN ZAWADA : VETERAN VOLLEY RYBNIK
URL:https://volleyamigos35.pl/event/4-fun-zawada-veteran-volley-rybnik/
LOCATION:Zespół Szkolno – Przedszkolny nr 1 Zawada\, Konwaliowa 4\, Wodzisław Śląski\, Śląskie\, 44-373\, Poland
END:VEVENT
BEGIN:VEVENT
DTSTART;TZID=Europe/Warsaw:20251010T203000
DTEND;TZID=Europe/Warsaw:20251010T220000
DTSTAMP:20260418T043852
CREATED:20250926T101939Z
LAST-MODIFIED:20251005T191006Z
UID:524-1760128200-1760133600@volleyamigos35.pl
SUMMARY:MIX TEAM PSZÓW : VETERAN VOLLEY RYBNIK
DESCRIPTION:1 Kolejka Rozgrywek amatorskiej ligi siatkówki\, mecz MIX TEAM PSZÓW : VETERAN VOLLEY RYBNIK
URL:https://volleyamigos35.pl/event/veteran-volley-rybnik-mix-team-pszow/
LOCATION:Szkoła podstawowa Nr.1 w Pszowie\, Romualda Traugutta 12\, Pszów\, Śląskie\, 44-370\, Poland
END:VEVENT
BEGIN:VEVENT
DTSTART;TZID=Europe/Warsaw:20251009T194500
DTEND;TZID=Europe/Warsaw:20251009T214500
DTSTAMP:20260418T043852
CREATED:20250926T102059Z
LAST-MODIFIED:20251004T121601Z
UID:526-1760039100-1760046300@volleyamigos35.pl
SUMMARY:BEER TEAM SILESIA MASTERS RYBNIK : BEZ ODBIORU RACIBÓRZ
DESCRIPTION:1 Kolejka Rozgrywek amatorskiej ligi siatkówki\, mecz BEER TEAM SILESIA MASTERS RYBNIK : BEZ ODBIORU RACIBÓRZ
URL:https://volleyamigos35.pl/event/beer-team-masters-rybnik-bez-odbioru-raciborz/
LOCATION:Zespół Szkolno-Przedszkolny nr 5 w Rybniku\, ul. Różańskiego 14A\, Rybnik\, 44-200
END:VEVENT
BEGIN:VEVENT
DTSTART;TZID=Europe/Warsaw:20251008T193000
DTEND;TZID=Europe/Warsaw:20251008T213000
DTSTAMP:20260418T043852
CREATED:20250926T105306Z
LAST-MODIFIED:20251004T121716Z
UID:532-1759951800-1759959000@volleyamigos35.pl
SUMMARY:VOLLEY JASTRZĘBIE ZDRÓJ : VOLLEY PSZÓW
DESCRIPTION:1 Kolejka Rozgrywek amatorskiej ligi siatkówki\, mecz VOLLEY JASTRZĘBIE ZDRÓJ : VOLLEY PSZÓW
URL:https://volleyamigos35.pl/event/volley-jastrzebie-zdroj-volley-pszow/
LOCATION:Hala Omega w Jastrzębiu Zdroju\, ul. Harcerska 14b\, Jastrzębie-Zdrój\, 44-335
END:VEVENT
BEGIN:VEVENT
DTSTART;TZID=Europe/Warsaw:20251007T191500
DTEND;TZID=Europe/Warsaw:20251007T214500
DTSTAMP:20260418T043852
CREATED:20250926T102204Z
LAST-MODIFIED:20251004T121635Z
UID:528-1759864500-1759873500@volleyamigos35.pl
SUMMARY:STARA GWARDIA CZYŻOWICE : ZJEDNOCZONE EMIRATY RYDUŁTOWSKIE
DESCRIPTION:1 Kolejka Rozgrywek amatorskiej ligi siatkówki\, mecz STARA GWARDIA CZYŻOWICE : ZJEDNOCZONE EMIRATY RYDUŁTOWSKIE
URL:https://volleyamigos35.pl/event/stara-gwardia-czyzowice-zjednoczone-emiraty-rydultowskie/
LOCATION:Zespół Szkół Ogólnokształcących w Syryni\, ul. Powstańców Śląskich 26\, Syrynia\, 44-361
END:VEVENT
BEGIN:VEVENT
DTSTART;TZID=Europe/Warsaw:20251006T193000
DTEND;TZID=Europe/Warsaw:20251006T210000
DTSTAMP:20260418T043852
CREATED:20250713T085521Z
LAST-MODIFIED:20251004T121505Z
UID:167-1759779000-1759784400@volleyamigos35.pl
SUMMARY:4 FUN ZAWADA : OMERTA NORTHERN RACIBÓRZ
DESCRIPTION:1 Kolejka Rozgrywek amatorskiej ligi siatkówki\, mecz 4 FUN ZAWADA : OMERTA NORTHERN RACIBÓRZ
URL:https://volleyamigos35.pl/event/rozpoczecie-ligi/
LOCATION:Zespół Szkolno – Przedszkolny nr 1 Zawada\, Konwaliowa 4\, Wodzisław Śląski\, Śląskie\, 44-373\, Poland
END:VEVENT
END:VCALENDAR