BEGIN:VCALENDAR
VERSION:2.0
PRODID:-//Amatorska Liga Siatkówki Volley Amigos 35 - ECPv6.14.2//NONSGML v1.0//EN
CALSCALE:GREGORIAN
METHOD:PUBLISH
X-WR-CALNAME:Amatorska Liga Siatkówki Volley Amigos 35
X-ORIGINAL-URL:https://volleyamigos35.pl
X-WR-CALDESC:Wydarzenia dla Amatorska Liga Siatkówki Volley Amigos 35
REFRESH-INTERVAL;VALUE=DURATION:PT1H
X-Robots-Tag:noindex
X-PUBLISHED-TTL:PT1H
BEGIN:VTIMEZONE
TZID:Europe/Warsaw
BEGIN:DAYLIGHT
TZOFFSETFROM:+0100
TZOFFSETTO:+0200
TZNAME:CEST
DTSTART:20250330T010000
END:DAYLIGHT
BEGIN:STANDARD
TZOFFSETFROM:+0200
TZOFFSETTO:+0100
TZNAME:CET
DTSTART:20251026T010000
END:STANDARD
BEGIN:DAYLIGHT
TZOFFSETFROM:+0100
TZOFFSETTO:+0200
TZNAME:CEST
DTSTART:20260329T010000
END:DAYLIGHT
BEGIN:STANDARD
TZOFFSETFROM:+0200
TZOFFSETTO:+0100
TZNAME:CET
DTSTART:20261025T010000
END:STANDARD
END:VTIMEZONE
BEGIN:VEVENT
DTSTART;TZID=Europe/Warsaw:20260206T180000
DTEND;TZID=Europe/Warsaw:20260206T193000
DTSTAMP:20260418T043840
CREATED:20251011T110031Z
LAST-MODIFIED:20260107T225137Z
UID:918-1770400800-1770406200@volleyamigos35.pl
SUMMARY:VETERAN VOLLEY RYBNIK : BEZ ODBIORU RACIBÓRZ
DESCRIPTION:16 Kolejka Rozgrywek amatorskiej ligi siatkówki\, mecz VETERAN VOLLEY RYBNIK : BEZ ODBIORU RACIBÓRZ
URL:https://volleyamigos35.pl/event/veteran-volley-rybnik-bez-odbioru-raciborz/
LOCATION:ZSP Nr. 3 w Rybniku\, ul. Bernarda Kuglera 8a\, Rybnik\, 44-207
END:VEVENT
BEGIN:VEVENT
DTSTART;TZID=Europe/Warsaw:20260205T194500
DTEND;TZID=Europe/Warsaw:20260205T214500
DTSTAMP:20260418T043840
CREATED:20251011T110348Z
LAST-MODIFIED:20251011T110348Z
UID:922-1770320700-1770327900@volleyamigos35.pl
SUMMARY:BEER TEAM SILESIA MASTERS RYBNIK : VOLLEY JASTRZĘBIE ZDRÓJ
DESCRIPTION:16 Kolejka Rozgrywek amatorskiej ligi siatkówki\, mecz BEER TEAM SILESIA MASTERS RYBNIK : VOLLEY JASTRZĘBIE ZDRÓJ
URL:https://volleyamigos35.pl/event/beer-team-silesia-masters-rybnik-volley-jastrzebie-zdroj/
LOCATION:Zespół Szkolno-Przedszkolny nr 5 w Rybniku\, ul. Różańskiego 14A\, Rybnik\, 44-200
END:VEVENT
BEGIN:VEVENT
DTSTART;TZID=Europe/Warsaw:20260205T184000
DTEND;TZID=Europe/Warsaw:20260205T203000
DTSTAMP:20260418T043840
CREATED:20251011T110248Z
LAST-MODIFIED:20260202T174447Z
UID:920-1770316800-1770323400@volleyamigos35.pl
SUMMARY:4 FUN ZAWADA : ZJEDNOCZONE EMIRATY RYDUŁTOWSKIE
DESCRIPTION:16 Kolejka Rozgrywek amatorskiej ligi siatkówki\, mecz 4 FUN ZAWADA : ZJEDNOCZONE EMIRATY RYDUŁTOWSKIE
URL:https://volleyamigos35.pl/event/4-fun-zawada-zjednoczone-emiraty-rydultowskie/
LOCATION:SP nr 3 w Radlinie\, ul. Józefa Rymera 170\, Radlin\, 44-310
END:VEVENT
BEGIN:VEVENT
DTSTART;TZID=Europe/Warsaw:20260204T200000
DTEND;TZID=Europe/Warsaw:20260204T213000
DTSTAMP:20260418T043840
CREATED:20251011T110104Z
LAST-MODIFIED:20251011T110104Z
UID:919-1770235200-1770240600@volleyamigos35.pl
SUMMARY:OMERTA NORTHERN RACIBÓRZ : STARA GWARDIA CZYŻOWICE
DESCRIPTION:16 Kolejka Rozgrywek amatorskiej ligi siatkówki\, mecz OMERTA NORTHERN RACIBÓRZ : STARA GWARDIA CZYŻOWICE
URL:https://volleyamigos35.pl/event/omerta-northern-raciborz-stara-gwardia-czyzowice/
LOCATION:Powiatowe Centrum Sportu Racibórz\, ul. Klasztorna 9\, Racibórz\, 47-400
END:VEVENT
BEGIN:VEVENT
DTSTART;TZID=Europe/Warsaw:20260130T183000
DTEND;TZID=Europe/Warsaw:20260130T200000
DTSTAMP:20260418T043840
CREATED:20251011T104152Z
LAST-MODIFIED:20251016T175351Z
UID:909-1769797800-1769803200@volleyamigos35.pl
SUMMARY:STARA GWARDIA CZYŻOWICE : BEER SILESIA TEAM MASTERS RYBNIK
DESCRIPTION:15 Kolejka Rozgrywek amatorskiej ligi siatkówki\, mecz STARA GWARDIA CZYŻOWICE : BEER SILESIA TEAM MASTERS RYBNIK
URL:https://volleyamigos35.pl/event/stara-gwardia-czyzowice-beer-silesia-team-masters-rybnik/
LOCATION:Zespół Szkół Ogólnokształcących w Syryni\, ul. Powstańców Śląskich 26\, Syrynia\, 44-361
END:VEVENT
BEGIN:VEVENT
DTSTART;TZID=Europe/Warsaw:20260130T180000
DTEND;TZID=Europe/Warsaw:20260130T193000
DTSTAMP:20260418T043840
CREATED:20251008T200417Z
LAST-MODIFIED:20260127T194851Z
UID:819-1769796000-1769801400@volleyamigos35.pl
SUMMARY:VETERAN VOLLEY RYBNIK : OMERTA NORTHERN RACIBÓRZ
DESCRIPTION:Zaległy mecz 8 kolejki rozgrywek amatorskiej ligi siatkówki\, mecz VETERAN VOLLEY RYBNIK : OMERTA NORTHERN RACIBÓRZ
URL:https://volleyamigos35.pl/event/veteran-volley-rybnik-omerta-northern-raciborz/
LOCATION:ZSP Nr. 3 w Rybniku\, ul. Bernarda Kuglera 8a\, Rybnik\, 44-207
END:VEVENT
BEGIN:VEVENT
DTSTART;TZID=Europe/Warsaw:20260129T184000
DTEND;TZID=Europe/Warsaw:20260129T211000
DTSTAMP:20260418T043840
CREATED:20251011T104254Z
LAST-MODIFIED:20251122T082320Z
UID:911-1769712000-1769721000@volleyamigos35.pl
SUMMARY:ZJEDNOCZONE EMIRATY RYDUŁTOWSKIE : MIX TEAM PSZÓW
DESCRIPTION:15 Kolejka Rozgrywek amatorskiej ligi siatkówki\, mecz ZJEDNOCZONE EMIRATY RYDUŁTOWSKIE : MIX TEAM PSZÓW
URL:https://volleyamigos35.pl/event/zjednoczone-emiraty-rydultowskie-mix-team-pszow/
LOCATION:SP nr 3 w Radlinie\, ul. Józefa Rymera 170\, Radlin\, 44-310
END:VEVENT
BEGIN:VEVENT
DTSTART;TZID=Europe/Warsaw:20260128T203000
DTEND;TZID=Europe/Warsaw:20260128T220000
DTSTAMP:20260418T043840
CREATED:20251011T104048Z
LAST-MODIFIED:20260127T194354Z
UID:907-1769632200-1769637600@volleyamigos35.pl
SUMMARY:VOLLEY JASTRZĘBIE ZDRÓJ : 4 FUN ZAWADA
DESCRIPTION:15 Kolejka Rozgrywek amatorskiej ligi siatkówki\, mecz VOLLEY JASTRZĘBIE ZDRÓJ : 4 FUN ZAWADA
URL:https://volleyamigos35.pl/event/volley-jastrzebie-zdroj-4-fun-zawada/
LOCATION:Hala Omega w Jastrzębiu Zdroju\, ul. Harcerska 14b\, Jastrzębie-Zdrój\, 44-335
END:VEVENT
BEGIN:VEVENT
DTSTART;TZID=Europe/Warsaw:20260127T203000
DTEND;TZID=Europe/Warsaw:20260127T220000
DTSTAMP:20260418T043840
CREATED:20251011T104220Z
LAST-MODIFIED:20251011T104220Z
UID:910-1769545800-1769551200@volleyamigos35.pl
SUMMARY:VOLLEY PSZÓW : VETERAN VOLLEY RYBNIK
DESCRIPTION:15 Kolejka Rozgrywek amatorskiej ligi siatkówki\, mecz VOLLEY PSZÓW : VETERAN VOLLEY RYBNIK
URL:https://volleyamigos35.pl/event/volley-pszow-veteran-volley-rybnik/
LOCATION:Szkoła podstawowa Nr.1 w Pszowie\, Romualda Traugutta 12\, Pszów\, Śląskie\, 44-370\, Poland
END:VEVENT
BEGIN:VEVENT
DTSTART;TZID=Europe/Warsaw:20260127T181500
DTEND;TZID=Europe/Warsaw:20260127T194500
DTSTAMP:20260418T043840
CREATED:20251011T104121Z
LAST-MODIFIED:20251011T104121Z
UID:908-1769537700-1769543100@volleyamigos35.pl
SUMMARY:BEZ ODBIORU RACIBÓRZ :  OMERTA NORTHERN RACIBÓRZ
DESCRIPTION:15 Kolejka Rozgrywek amatorskiej ligi siatkówki\, mecz BEZ ODBIORU RACIBÓRZ : OMERTA NORTHERN RACIBÓRZ
URL:https://volleyamigos35.pl/event/bez-odbioru-raciborz-omerta-northern-raciborz/
LOCATION:Centrum Kształcenia Zawodowego i Ustawicznego nr 2 „Mechanik” Racibórz\, ul. Zamkowa 1\, Racibórz\, Śląskie\, 47-400\, Poland
END:VEVENT
BEGIN:VEVENT
DTSTART;TZID=Europe/Warsaw:20260123T203000
DTEND;TZID=Europe/Warsaw:20260123T220000
DTSTAMP:20260418T043840
CREATED:20251011T103604Z
LAST-MODIFIED:20251011T103604Z
UID:899-1769200200-1769205600@volleyamigos35.pl
SUMMARY:MIX TEAM PSZÓW : VOLLEY JASTRZĘBIE ZDRÓJ
DESCRIPTION:14 Kolejka Rozgrywek amatorskiej ligi siatkówki\, mecz MIX TEAM PSZÓW : VOLLEY JASTRZĘBIE ZDRÓJ
URL:https://volleyamigos35.pl/event/mix-team-pszow-volley-jastrzebie-zdroj/
LOCATION:Szkoła podstawowa Nr.1 w Pszowie\, Romualda Traugutta 12\, Pszów\, Śląskie\, 44-370\, Poland
END:VEVENT
BEGIN:VEVENT
DTSTART;TZID=Europe/Warsaw:20260123T183000
DTEND;TZID=Europe/Warsaw:20260123T200000
DTSTAMP:20260418T043840
CREATED:20251008T194821Z
LAST-MODIFIED:20251119T092125Z
UID:804-1769193000-1769198400@volleyamigos35.pl
SUMMARY:STARA GWARDIA CZYŻOWICE : OMERTA NORTHERN RACIBÓRZ
DESCRIPTION:7 Kolejka Rozgrywek amatorskiej ligi siatkówki\, mecz STARA GWARDIA CZYŻOWICE : OMERTA NORTHERN RACIBÓRZ 
URL:https://volleyamigos35.pl/event/stara-gwardia-czyzowice-omerta-northern-raciborz/
LOCATION:Zespół Szkół Ogólnokształcących w Syryni\, ul. Powstańców Śląskich 26\, Syrynia\, 44-361
END:VEVENT
BEGIN:VEVENT
DTSTART;TZID=Europe/Warsaw:20260123T180000
DTEND;TZID=Europe/Warsaw:20260123T193000
DTSTAMP:20260418T043840
CREATED:20251011T103712Z
LAST-MODIFIED:20260107T225151Z
UID:901-1769191200-1769196600@volleyamigos35.pl
SUMMARY:VETERAN VOLLEY RYBNIK :  ZJEDNOCZONE EMIRATY RYDUŁTOWSKIE
DESCRIPTION:14 Kolejka Rozgrywek amatorskiej ligi siatkówki\, mecz VETERAN VOLLEY RYBNIK :  ZJEDNOCZONE EMIRATY RYDUŁTOWSKIE
URL:https://volleyamigos35.pl/event/veteran-volley-rybnik-zjednoczone-emiraty-rydultowskie/
LOCATION:ZSP Nr. 3 w Rybniku\, ul. Bernarda Kuglera 8a\, Rybnik\, 44-207
END:VEVENT
BEGIN:VEVENT
DTSTART;TZID=Europe/Warsaw:20260121T200000
DTEND;TZID=Europe/Warsaw:20260121T213000
DTSTAMP:20260418T043840
CREATED:20251011T103500Z
LAST-MODIFIED:20251011T103500Z
UID:897-1769025600-1769031000@volleyamigos35.pl
SUMMARY:OMERTA NORTHERN RACIBÓRZ : VOLLEY PSZÓW
DESCRIPTION:14 Kolejka Rozgrywek amatorskiej ligi siatkówki\, mecz OMERTA NORTHERN RACIBÓRZ : VOLLEY PSZÓW
URL:https://volleyamigos35.pl/event/omerta-northern-raciborz-volley-pszow/
LOCATION:Powiatowe Centrum Sportu Racibórz\, ul. Klasztorna 9\, Racibórz\, 47-400
END:VEVENT
BEGIN:VEVENT
DTSTART;TZID=Europe/Warsaw:20260120T181500
DTEND;TZID=Europe/Warsaw:20260120T194500
DTSTAMP:20260418T043840
CREATED:20251011T103530Z
LAST-MODIFIED:20251011T103530Z
UID:898-1768932900-1768938300@volleyamigos35.pl
SUMMARY:BEZ ODBIORU RACIBÓRZ :  STARA GWARDIA CZYŻOWICE
DESCRIPTION:14 Kolejka Rozgrywek amatorskiej ligi siatkówki\, mecz BEZ ODBIORU RACIBÓRZ : STARA GWARDIA CZYŻOWICE
URL:https://volleyamigos35.pl/event/bez-odbioru-raciborz-stara-gwardia-czyzowice/
LOCATION:Centrum Kształcenia Zawodowego i Ustawicznego nr 2 „Mechanik” Racibórz\, ul. Zamkowa 1\, Racibórz\, Śląskie\, 47-400\, Poland
END:VEVENT
BEGIN:VEVENT
DTSTART;TZID=Europe/Warsaw:20260119T193000
DTEND;TZID=Europe/Warsaw:20260119T210000
DTSTAMP:20260418T043840
CREATED:20251011T103633Z
LAST-MODIFIED:20251011T103633Z
UID:900-1768851000-1768856400@volleyamigos35.pl
SUMMARY:4 FUN ZAWADA : BEER TEAM SILESIA MASTERS RYBNIK
DESCRIPTION:14 Kolejka Rozgrywek amatorskiej ligi siatkówki\, mecz 4 FUN ZAWADA : BEER TEAM SILESIA MASTERS RYBNIK
URL:https://volleyamigos35.pl/event/4-fun-zawada-beer-team-silesia-masters-rybnik/
LOCATION:Zespół Szkolno – Przedszkolny nr 1 Zawada\, Konwaliowa 4\, Wodzisław Śląski\, Śląskie\, 44-373\, Poland
END:VEVENT
BEGIN:VEVENT
DTSTART;TZID=Europe/Warsaw:20260116T180000
DTEND;TZID=Europe/Warsaw:20260116T193000
DTSTAMP:20260418T043840
CREATED:20251011T103116Z
LAST-MODIFIED:20260115T175445Z
UID:890-1768586400-1768591800@volleyamigos35.pl
SUMMARY:VETERAN VOLLEY RYBNIK : VOLLEY JASTRZĘBIE ZDRÓJ
DESCRIPTION:13 Kolejka Rozgrywek amatorskiej ligi siatkówki\, mecz VETERAN VOLLEY RYBNIK : VOLLEY JASTRZĘBIE ZDRÓJ
URL:https://volleyamigos35.pl/event/volley-jastrzebie-zdroj-veteran-volley-rybnik/
LOCATION:ZSP Nr. 3 w Rybniku\, ul. Bernarda Kuglera 8a\, Rybnik\, 44-207
END:VEVENT
BEGIN:VEVENT
DTSTART;TZID=Europe/Warsaw:20260115T194500
DTEND;TZID=Europe/Warsaw:20260115T214500
DTSTAMP:20260418T043840
CREATED:20251011T103024Z
LAST-MODIFIED:20251011T103044Z
UID:889-1768506300-1768513500@volleyamigos35.pl
SUMMARY:BEER TEAM SILESIA MASTERS RYBNIK : MIX TEAM PSZÓW
DESCRIPTION:13 Kolejka Rozgrywek amatorskiej ligi siatkówki\, mecz BEER TEAM SILESIA MASTERS RYBNIK : MIX TEAM PSZÓW
URL:https://volleyamigos35.pl/event/beer-team-silesia-masters-rybnik-mix-team-pszow/
LOCATION:Zespół Szkolno-Przedszkolny nr 5 w Rybniku\, ul. Różańskiego 14A\, Rybnik\, 44-200
END:VEVENT
BEGIN:VEVENT
DTSTART;TZID=Europe/Warsaw:20260115T184000
DTEND;TZID=Europe/Warsaw:20260115T211000
DTSTAMP:20260418T043840
CREATED:20251011T102921Z
LAST-MODIFIED:20251122T082305Z
UID:888-1768502400-1768511400@volleyamigos35.pl
SUMMARY:ZJEDNOCZONE EMIRATY RYDUŁTOWSKIE : OMERTA NORTHERN RACIBÓRZ
DESCRIPTION:13 Kolejka Rozgrywek amatorskiej ligi siatkówki\, mecz ZJEDNOCZONE EMIRATY RYDUŁTOWSKIE : OMERTA NORTHERN RACIBÓRZ
URL:https://volleyamigos35.pl/event/zjednoczone-emiraty-rydultowskie-omerta-northern-raciborz/
LOCATION:SP nr 3 w Radlinie\, ul. Józefa Rymera 170\, Radlin\, 44-310
END:VEVENT
BEGIN:VEVENT
DTSTART;TZID=Europe/Warsaw:20260113T203000
DTEND;TZID=Europe/Warsaw:20260113T220000
DTSTAMP:20260418T043840
CREATED:20251011T102842Z
LAST-MODIFIED:20251011T102842Z
UID:887-1768336200-1768341600@volleyamigos35.pl
SUMMARY:VOLLEY PSZÓW : BEZ ODBIORU RACIBÓRZ
DESCRIPTION:13 Kolejka Rozgrywek amatorskiej ligi siatkówki\, mecz VOLLEY PSZÓW : BEZ ODBIORU RACIBÓRZ
URL:https://volleyamigos35.pl/event/volley-pszow-bez-odbioru-raciborz/
LOCATION:Szkoła podstawowa Nr.1 w Pszowie\, Romualda Traugutta 12\, Pszów\, Śląskie\, 44-370\, Poland
END:VEVENT
BEGIN:VEVENT
DTSTART;TZID=Europe/Warsaw:20260109T183000
DTEND;TZID=Europe/Warsaw:20260109T200000
DTSTAMP:20260418T043840
CREATED:20251011T102233Z
LAST-MODIFIED:20251016T175433Z
UID:876-1767983400-1767988800@volleyamigos35.pl
SUMMARY:STARA GWARDIA CZYŻOWICE : VOLLEY PSZÓW
DESCRIPTION:12 Kolejka Rozgrywek amatorskiej ligi siatkówki\, mecz STARA GWARDIA CZYŻOWICE : VOLLEY PSZÓW
URL:https://volleyamigos35.pl/event/stara-gwardia-czyzowice-volley-pszow/
LOCATION:Zespół Szkół Ogólnokształcących w Syryni\, ul. Powstańców Śląskich 26\, Syrynia\, 44-361
END:VEVENT
BEGIN:VEVENT
DTSTART;TZID=Europe/Warsaw:20260109T180000
DTEND;TZID=Europe/Warsaw:20260109T193000
DTSTAMP:20260418T043840
CREATED:20251011T102324Z
LAST-MODIFIED:20260107T225216Z
UID:877-1767981600-1767987000@volleyamigos35.pl
SUMMARY:VETERAN VOLLEY RYBNIK : BEER TEAM SILESIA MASTERS RYBNIK
DESCRIPTION:12 Kolejka Rozgrywek amatorskiej ligi siatkówki\, mecz VETERAN VOLLEY RYBNIK : BEER TEAM SILESIA MASTERS RYBNIK
URL:https://volleyamigos35.pl/event/veteran-volley-rybnik-beer-team-silesia-masters-rybnik/
LOCATION:ZSP Nr. 3 w Rybniku\, ul. Bernarda Kuglera 8a\, Rybnik\, 44-207
END:VEVENT
BEGIN:VEVENT
DTSTART;TZID=Europe/Warsaw:20260107T200000
DTEND;TZID=Europe/Warsaw:20260107T213000
DTSTAMP:20260418T043840
CREATED:20251011T102459Z
LAST-MODIFIED:20251011T102533Z
UID:879-1767816000-1767821400@volleyamigos35.pl
SUMMARY:OMERTA NORTHERN RACIBÓRZ : VOLLEY JASTRZĘBIE ZDRÓJ
DESCRIPTION:12 Kolejka Rozgrywek amatorskiej ligi siatkówki\, mecz OMERTA NORTHERN RACIBÓRZ : VOLLEY JASTRZĘBIE ZDRÓJ
URL:https://volleyamigos35.pl/event/omerta-northern-raciborz-volley-jastrzebie-zdroj/
LOCATION:Powiatowe Centrum Sportu Racibórz\, ul. Klasztorna 9\, Racibórz\, 47-400
END:VEVENT
BEGIN:VEVENT
DTSTART;TZID=Europe/Warsaw:20260106T181500
DTEND;TZID=Europe/Warsaw:20260106T194500
DTSTAMP:20260418T043840
CREATED:20251011T102419Z
LAST-MODIFIED:20251011T102419Z
UID:878-1767723300-1767728700@volleyamigos35.pl
SUMMARY:BEZ ODBIORU RACIBÓRZ :  ZJEDNOCZONE EMIRATY RYDUŁTOWSKIE
DESCRIPTION:12 Kolejka Rozgrywek amatorskiej ligi siatkówki\, mecz BEZ ODBIORU RACIBÓRZ : ZJEDNOCZONE EMIRATY RYDUŁTOWSKIE
URL:https://volleyamigos35.pl/event/bez-odbioru-raciborz-zjednoczone-emiraty-rydultowskie/
LOCATION:Centrum Kształcenia Zawodowego i Ustawicznego nr 2 „Mechanik” Racibórz\, ul. Zamkowa 1\, Racibórz\, Śląskie\, 47-400\, Poland
END:VEVENT
BEGIN:VEVENT
DTSTART;TZID=Europe/Warsaw:20260105T193000
DTEND;TZID=Europe/Warsaw:20260105T210000
DTSTAMP:20260418T043840
CREATED:20251011T102153Z
LAST-MODIFIED:20251011T102153Z
UID:875-1767641400-1767646800@volleyamigos35.pl
SUMMARY:4 FUN ZAWADA : MIX TEAM PSZÓW
DESCRIPTION:12 Kolejka Rozgrywek amatorskiej ligi siatkówki\, mecz 4 FUN ZAWADA : MIX TEAM PSZÓW
URL:https://volleyamigos35.pl/event/4-fun-zawada-mix-team-pszow/
LOCATION:Zespół Szkolno – Przedszkolny nr 1 Zawada\, Konwaliowa 4\, Wodzisław Śląski\, Śląskie\, 44-373\, Poland
END:VEVENT
BEGIN:VEVENT
DTSTART;TZID=Europe/Warsaw:20251219T203000
DTEND;TZID=Europe/Warsaw:20251219T220000
DTSTAMP:20260418T043840
CREATED:20251011T101413Z
LAST-MODIFIED:20251011T101413Z
UID:865-1766176200-1766181600@volleyamigos35.pl
SUMMARY:VETERAN VOLLEY RYBNIK : 4 FUN ZAWADA
DESCRIPTION:11 Kolejka Rozgrywek amatorskiej ligi siatkówki\, mecz VETERAN VOLLEY RYBNIK : 4 FUN ZAWADA
URL:https://volleyamigos35.pl/event/veteran-volley-rybnik-4-fun-zawada/
LOCATION:ZSP Nr. 3 w Rybniku\, ul. Bernarda Kuglera 8a\, Rybnik\, 44-207
END:VEVENT
BEGIN:VEVENT
DTSTART;TZID=Europe/Warsaw:20251219T183000
DTEND;TZID=Europe/Warsaw:20251219T200000
DTSTAMP:20260418T043840
CREATED:20251011T101706Z
LAST-MODIFIED:20251016T175459Z
UID:868-1766169000-1766174400@volleyamigos35.pl
SUMMARY:STARA GWARDIA CZYŻOWICE : MIX TEAM PSZÓW
DESCRIPTION:11 Kolejka Rozgrywek amatorskiej ligi siatkówki\, mecz STARA GWARDIA CZYŻOWICE : MIX TEAM PSZÓW
URL:https://volleyamigos35.pl/event/stara-gwardia-czyzowice-mix-team-pszow/
LOCATION:Zespół Szkół Ogólnokształcących w Syryni\, ul. Powstańców Śląskich 26\, Syrynia\, 44-361
END:VEVENT
BEGIN:VEVENT
DTSTART;TZID=Europe/Warsaw:20251218T194500
DTEND;TZID=Europe/Warsaw:20251218T214500
DTSTAMP:20260418T043840
CREATED:20251011T101637Z
LAST-MODIFIED:20251011T101637Z
UID:867-1766087100-1766094300@volleyamigos35.pl
SUMMARY:BEER TEAM SILESIA MASTERS RYBNIK : OMERTA NORTHERN RACIBÓRZ
DESCRIPTION:11 Kolejka Rozgrywek amatorskiej ligi siatkówki\, mecz BEER TEAM SILESIA MASTERS RYBNIK : OMERTA NORTHERN RACIBÓRZ
URL:https://volleyamigos35.pl/event/beer-team-silesia-masters-rybnik-omerta-northern-raciborz/
LOCATION:Zespół Szkolno-Przedszkolny nr 5 w Rybniku\, ul. Różańskiego 14A\, Rybnik\, 44-200
END:VEVENT
BEGIN:VEVENT
DTSTART;TZID=Europe/Warsaw:20251217T193000
DTEND;TZID=Europe/Warsaw:20251217T213000
DTSTAMP:20260418T043840
CREATED:20251011T101445Z
LAST-MODIFIED:20251011T101513Z
UID:866-1765999800-1766007000@volleyamigos35.pl
SUMMARY:VOLLEY JASTRZĘBIE ZDRÓJ : BEZ ODBIORU RACIBÓRZ
DESCRIPTION:11 Kolejka Rozgrywek amatorskiej ligi siatkówki\, mecz VOLLEY JASTRZĘBIE ZDRÓJ : BEZ ODBIORU RACIBÓRZ
URL:https://volleyamigos35.pl/event/volley-jastrzebie-zdroj-bez-odbioru-raciborz/
LOCATION:Hala Omega w Jastrzębiu Zdroju\, ul. Harcerska 14b\, Jastrzębie-Zdrój\, 44-335
END:VEVENT
BEGIN:VEVENT
DTSTART;TZID=Europe/Warsaw:20251216T203000
DTEND;TZID=Europe/Warsaw:20251216T220000
DTSTAMP:20260418T043840
CREATED:20251011T101755Z
LAST-MODIFIED:20251011T101816Z
UID:869-1765917000-1765922400@volleyamigos35.pl
SUMMARY:VOLLEY PSZÓW : ZJEDNOCZONE EMIRATY RYDUŁTOWSKIE
DESCRIPTION:11 Kolejka Rozgrywek amatorskiej ligi siatkówki\, mecz VOLLEY PSZÓW : ZJEDNOCZONE EMIRATY RYDUŁTOWSKIE
URL:https://volleyamigos35.pl/event/volley-pszow-zjednoczone-emiraty-rydultowskie/
LOCATION:Szkoła podstawowa Nr.1 w Pszowie\, Romualda Traugutta 12\, Pszów\, Śląskie\, 44-370\, Poland
END:VEVENT
END:VCALENDAR